BEGIN:VCALENDAR
VERSION:2.0
PRODID:-//Tukios.com/
BEGIN:VEVENT
UID:b65fa18b-2376-4cf4-be03-1a60208826cc@www.townsendwoodzinger.com
DTSTAMP:20260424T083045Z
DTSTART:20260628T180000Z
DTEND:20260628T190000Z
SUMMARY:Celebration of Life
DESCRIPTION:
URL:https://www.townsendwoodzinger.com/obituaries/james-johns
LOCATION: 60 Cornelia Street  Dresden NY 14441
GEO:42.6850504;-76.9548748
END:VEVENT
END:VCALENDAR